BEGIN:VCALENDAR
VERSION:2.0
PRODID:-//wp-events-plugin.com//7.2.3.1//EN
BEGIN:VEVENT
UID:452@pilegrimsfellesskapet.no
DTSTART;TZID=Europe/Oslo:20250727T000000
DTEND;TZID=Europe/Oslo:20250801T000000
DTSTAMP:20250125T130357Z
URL:https://www.pilegrimsfellesskapet.no/arrangement/pilegrimstur-fra-stik
 lestad-til-nidaros-2/
SUMMARY:Pilegrimstur fra Stiklestad til Nidaros
DESCRIPTION:Plussreiser inviterer til en uforglemmelig pilegrimstur fra Sti
 klestad til Nidaros\, der hver fotsteg bærer med seg århundrer av histor
 ie\, tro og tradisjon.
ATTACH;FMTTYPE=image/jpeg:https://www.pilegrimsfellesskapet.no/wp-content/
 uploads/2022/05/munkeby-klosterruin.jpg
CATEGORIES:Langvandring
LOCATION:Verdal hotell\, Jernbanegata 13\, Verdal\, 7650\, Trøndelag\, Nor
 way
X-APPLE-STRUCTURED-LOCATION;VALUE=URI;X-ADDRESS=Jernbanegata 13\, Verdal\, 
 7650\, Trøndelag\, Norway;X-APPLE-RADIUS=100;X-TITLE=Verdal hotell:geo:0,
 0
END:VEVENT
BEGIN:VTIMEZONE
TZID:Europe/Oslo
X-LIC-LOCATION:Europe/Oslo
BEGIN:DAYLIGHT
DTSTART:20250330T030000
TZOFFSETFROM:+0100
TZOFFSETTO:+0200
TZNAME:CEST
END:DAYLIGHT
END:VTIMEZONE
END:VCALENDAR