BEGIN:VCALENDAR
VERSION:2.0
PRODID:-//wp-events-plugin.com//7.2.3.1//EN
BEGIN:VEVENT
UID:269@pilegrimsfellesskapet.no
DTSTART;TZID=Europe/Oslo;VALUE=DATE:20230506
DTEND;TZID=Europe/Oslo;VALUE=DATE:20230508
DTSTAMP:20230425T202124Z
URL:https://www.pilegrimsfellesskapet.no/arrangement/pilegrimstur-til-smol
 a-og-veiholmen-kvernes-stavkirke-og-atlanterhavsveien-6-7-mai-2023/
SUMMARY:Pilegrimstur til Smøla og Veiholmen\, Kvernes stavkirke og Atlante
 rhavsveien\, 6.-7. mai 2023.
DESCRIPTION:https://www.pilegrimsfellesskapet.no/pilegrimstur-til-smola-og-
 veiholmen-kvernes-stavkirke-og-atlanterhavsveien-6-7-mai-2023/
ATTACH;FMTTYPE=image/jpeg:https://www.pilegrimsfellesskapet.no/wp-content/
 uploads/2023/04/7BE5429D-1FC2-4EB8-9296-1F0C67575A79.jpeg
CATEGORIES:Pilegrimsfellesskapet St.Olav Oppdal
END:VEVENT
BEGIN:VTIMEZONE
TZID:Europe/Oslo
X-LIC-LOCATION:Europe/Oslo
BEGIN:DAYLIGHT
DTSTART:20230326T030000
TZOFFSETFROM:+0100
TZOFFSETTO:+0200
TZNAME:CEST
END:DAYLIGHT
END:VTIMEZONE
END:VCALENDAR