BEGIN:VCALENDAR
VERSION:2.0
PRODID:-//wp-events-plugin.com//7.2.3.1//EN
BEGIN:VEVENT
UID:254@pilegrimsfellesskapet.no
DTSTART;TZID=Europe/Oslo:20230611T000000
DTEND;TZID=Europe/Oslo:20230611T000000
DTSTAMP:20230411T150331Z
URL:https://www.pilegrimsfellesskapet.no/arrangement/pilegrimsvandring-ege
 rsund-hellvik/
SUMMARY:Pilegrimsvandring Egersund-Hellvik
DESCRIPTION:Pilegrimsutvalgene i Egersund og Jæren arrangerer den årlige 
 pilegrimsturen mellom Egersund og Ogna.
ATTACH;FMTTYPE=image/jpeg:https://www.pilegrimsfellesskapet.no/wp-content/
 uploads/2023/04/Egersund-kirke-2020_Wenche-Lindtner-scaled.jpg
CATEGORIES:Kystpilegrim
LOCATION:Egersund kirke\, Strandgaten\, Egersund\, 4370\, Rogaland\, Norway
X-APPLE-STRUCTURED-LOCATION;VALUE=URI;X-ADDRESS=Strandgaten\, Egersund\, 43
 70\, Rogaland\, Norway;X-APPLE-RADIUS=100;X-TITLE=Egersund kirke:geo:0,0
END:VEVENT
BEGIN:VTIMEZONE
TZID:Europe/Oslo
X-LIC-LOCATION:Europe/Oslo
BEGIN:DAYLIGHT
DTSTART:20230326T030000
TZOFFSETFROM:+0100
TZOFFSETTO:+0200
TZNAME:CEST
END:DAYLIGHT
END:VTIMEZONE
END:VCALENDAR