BEGIN:VCALENDAR
VERSION:2.0
PRODID:-//wp-events-plugin.com//7.2.3.1//EN
BEGIN:VEVENT
UID:153@pilegrimsfellesskapet.no
DTSTART;TZID=Europe/Oslo:20220612T100000
DTEND;TZID=Europe/Oslo:20220612T183000
DTSTAMP:20220609T191821Z
URL:https://www.pilegrimsfellesskapet.no/arrangement/pilegrimsvandring-ege
 rsund-ogna/
SUMMARY:Pilegrimsvandring Egersund - Ogna
DESCRIPTION:Egersund menighet inviterer til vandring langs den første etap
 pen Kystpilegrimsleia fra nøkkelstedet Egersund kirke. Vandringen avslutt
 es med gudstjeneste i Ogna kyrkje.
CATEGORIES:Dagsvandring
LOCATION:Egersund kirke\, Egersund\, Egersund\, Norway
X-APPLE-STRUCTURED-LOCATION;VALUE=URI;X-ADDRESS=Egersund\, Egersund\, Norwa
 y;X-APPLE-RADIUS=100;X-TITLE=Egersund kirke:geo:0,0
END:VEVENT
BEGIN:VTIMEZONE
TZID:Europe/Oslo
X-LIC-LOCATION:Europe/Oslo
BEGIN:DAYLIGHT
DTSTART:20220327T030000
TZOFFSETFROM:+0100
TZOFFSETTO:+0200
TZNAME:CEST
END:DAYLIGHT
END:VTIMEZONE
END:VCALENDAR