BEGIN:VCALENDAR
VERSION:2.0
PRODID:-//wp-events-plugin.com//7.2.3.1//EN
BEGIN:VEVENT
UID:262@pilegrimsfellesskapet.no
DTSTART;TZID=Europe/Oslo:20230520T110000
DTEND;TZID=Europe/Oslo:20230520T170000
DTSTAMP:20230503T190656Z
URL:https://www.pilegrimsfellesskapet.no/arrangement/pilegrimsvandring-fra
 -asgardstrand-borre-til-moss-kirke/
SUMMARY:Pilegrimsvandring fra Åsgårdstrand\, Borre til Moss kirke
DESCRIPTION:Pilegrimsfellesskapet Sta. Gjertrud inviterer til pilegrimsvand
 ring fra Åsgårdstrand\, Borre til Moss kirke.
ATTACH;FMTTYPE=image/jpeg:https://www.pilegrimsfellesskapet.no/wp-content/
 uploads/2023/04/Asgardstrand-Moss.jpg
CATEGORIES:Dagsvandring,Pilegrimsfellesskapet Sandefjord
LOCATION:Åsgårdstrand kirke\, Kirkeveien 8\, Åsgårdstrand\, 3179\, Vest
 fold og Telemark\, Norway
X-APPLE-STRUCTURED-LOCATION;VALUE=URI;X-ADDRESS=Kirkeveien 8\, Åsgårdstra
 nd\, 3179\, Vestfold og Telemark\, Norway;X-APPLE-RADIUS=100;X-TITLE=Åsg
 årdstrand kirke:geo:0,0
END:VEVENT
BEGIN:VTIMEZONE
TZID:Europe/Oslo
X-LIC-LOCATION:Europe/Oslo
BEGIN:DAYLIGHT
DTSTART:20230326T030000
TZOFFSETFROM:+0100
TZOFFSETTO:+0200
TZNAME:CEST
END:DAYLIGHT
END:VTIMEZONE
END:VCALENDAR