BEGIN:VCALENDAR
VERSION:2.0
PRODID:-//wp-events-plugin.com//7.2.3.1//EN
BEGIN:VEVENT
UID:94@pilegrimsfellesskapet.no
DTSTART;TZID=Europe/Oslo:20210722T000000
DTEND;TZID=Europe/Oslo:20210725T000000
DTSTAMP:20260107T160821Z
URL:https://www.pilegrimsfellesskapet.no/arrangement/pilegrimsvandring-fra
 -budsjord-til-kongsvold-med-mindfulness-og-qigong/
SUMMARY:Pilegrimsvandring fra Budsjord til Kongsvold med mindfulness og qig
 ong
DESCRIPTION:Bli med på vandring langs pilegrimsleden fra Budsjord til Kong
 svold med mindfulness og qigong.
ATTACH;FMTTYPE=image/jpeg:https://www.pilegrimsfellesskapet.no/wp-content/
 uploads/2023/03/Vandring-fra-Lian2_LS-scaled.jpg
CATEGORIES:Fellesturer,Langvandring
LOCATION:Dovre\, Dovre stasjon\, Dovre\, 2662\, Innlandet\, Norway
X-APPLE-STRUCTURED-LOCATION;VALUE=URI;X-ADDRESS=Dovre stasjon\, Dovre\, 266
 2\, Innlandet\, Norway;X-APPLE-RADIUS=100;X-TITLE=Dovre:geo:0,0
END:VEVENT
BEGIN:VTIMEZONE
TZID:Europe/Oslo
X-LIC-LOCATION:Europe/Oslo
BEGIN:DAYLIGHT
DTSTART:20210328T030000
TZOFFSETFROM:+0100
TZOFFSETTO:+0200
TZNAME:CEST
END:DAYLIGHT
END:VTIMEZONE
END:VCALENDAR