BEGIN:VCALENDAR
VERSION:2.0
PRODID:-//wp-events-plugin.com//7.2.3.1//EN
BEGIN:VEVENT
UID:49@pilegrimsfellesskapet.no
DTSTART;TZID=Europe/Oslo:20230731T000000
DTEND;TZID=Europe/Oslo:20230804T000000
DTSTAMP:20230105T115138Z
URL:https://www.pilegrimsfellesskapet.no/arrangement/pilegrimsvandring-fra
 -egersund-til-stavanger/
SUMMARY:Pilegrimsvandring fra Egersund til Stavanger
DESCRIPTION:Pilegrimsvandring fra Egersund til Stavanger med Andreas Haarr\
 , Reidun Gudmestad og Ola Undheim.
ATTACH;FMTTYPE=image/jpeg:https://www.pilegrimsfellesskapet.no/wp-content/
 uploads/2021/01/Obrestad-fyr.jpg
CATEGORIES:Kystpilegrim,Langvandring
LOCATION:Egersund kirke\, Egersund\, Egersund\, Norway
X-APPLE-STRUCTURED-LOCATION;VALUE=URI;X-ADDRESS=Egersund\, Egersund\, Norwa
 y;X-APPLE-RADIUS=100;X-TITLE=Egersund kirke:geo:0,0
END:VEVENT
BEGIN:VTIMEZONE
TZID:Europe/Oslo
X-LIC-LOCATION:Europe/Oslo
BEGIN:DAYLIGHT
DTSTART:20230326T030000
TZOFFSETFROM:+0100
TZOFFSETTO:+0200
TZNAME:CEST
END:DAYLIGHT
END:VTIMEZONE
END:VCALENDAR