BEGIN:VCALENDAR
VERSION:2.0
PRODID:-//wp-events-plugin.com//7.2.3.1//EN
BEGIN:VEVENT
UID:512@pilegrimsfellesskapet.no
DTSTART;TZID=Europe/Oslo:20250529T090000
DTEND;TZID=Europe/Oslo:20250529T150000
DTSTAMP:20250523T142426Z
URL:https://www.pilegrimsfellesskapet.no/arrangement/pilegrimsvandring-fra
 -gjovik-kirke-til-brastad-kirke/
SUMMARY:Pilegrimsvandring fra Gjøvik kirke til Bråstad kirke
DESCRIPTION:Kirken i Gjøvik inviterer til pilegrimsvandring fra Gjøvik ki
 rke til Bråstad kirke på Kristi himmelfartsdag.
ATTACH;FMTTYPE=image/jpeg:https://www.pilegrimsfellesskapet.no/wp-content/
 uploads/2025/05/gjovik-kirke.jpg
CATEGORIES:Dagsvandring
LOCATION:Gjøvik kirke\, Kirkegata 9\, Gjøvik\, 2821\, Innlandet\, Norway
X-APPLE-STRUCTURED-LOCATION;VALUE=URI;X-ADDRESS=Kirkegata 9\, Gjøvik\, 282
 1\, Innlandet\, Norway;X-APPLE-RADIUS=100;X-TITLE=Gjøvik kirke:geo:0,0
END:VEVENT
BEGIN:VTIMEZONE
TZID:Europe/Oslo
X-LIC-LOCATION:Europe/Oslo
BEGIN:DAYLIGHT
DTSTART:20250330T030000
TZOFFSETFROM:+0100
TZOFFSETTO:+0200
TZNAME:CEST
END:DAYLIGHT
END:VTIMEZONE
END:VCALENDAR