BEGIN:VCALENDAR
VERSION:2.0
PRODID:-//wp-events-plugin.com//7.2.3.1//EN
BEGIN:VEVENT
UID:538@pilegrimsfellesskapet.no
DTSTART;TZID=Europe/Oslo:20250907T130000
DTEND;TZID=Europe/Oslo:20250907T150000
DTSTAMP:20250901T210958Z
URL:https://www.pilegrimsfellesskapet.no/arrangement/pilegrimsvandring-fra
 -selbu-kirke/
SUMMARY:Pilegrimsvandring fra Selbu kirke
DESCRIPTION:Kirkvollen pilegrimsgård inviterer til pilegrimsvandring med e
 t utvandrerhistorisk perspektiv .
ATTACH;FMTTYPE=image/jpeg:https://www.pilegrimsfellesskapet.no/wp-content/
 uploads/2017/04/Selbusjøen.jpg
CATEGORIES:Dagsvandring
LOCATION:Selbu kirke\, Gjelbakken 14\, Selbu\, 7580\, Norway
X-APPLE-STRUCTURED-LOCATION;VALUE=URI;X-ADDRESS=Gjelbakken 14\, Selbu\, 758
 0\, Norway;X-APPLE-RADIUS=100;X-TITLE=Selbu kirke:geo:0,0
END:VEVENT
BEGIN:VTIMEZONE
TZID:Europe/Oslo
X-LIC-LOCATION:Europe/Oslo
BEGIN:DAYLIGHT
DTSTART:20250330T030000
TZOFFSETFROM:+0100
TZOFFSETTO:+0200
TZNAME:CEST
END:DAYLIGHT
END:VTIMEZONE
END:VCALENDAR