BEGIN:VCALENDAR
VERSION:2.0
PRODID:-//wp-events-plugin.com//7.2.3.1//EN
BEGIN:VEVENT
UID:98@pilegrimsfellesskapet.no
DTSTART;TZID=Europe/Oslo:20210616T170000
DTEND;TZID=Europe/Oslo:20210616T203000
DTSTAMP:20210615T165411Z
URL:https://www.pilegrimsfellesskapet.no/arrangement/pilegrimsvandring-fra
 -smorasfjellet-til-fana-kirke/
SUMMARY:Pilegrimsvandring fra Smøråsfjellet til Fana kirke
DESCRIPTION:Sett farten ned\, trekk pusten - merk jorden og fellesskapet!\n
 \nDet finnes en gammel pilegrimsvei fra Smøråsfjellet til Fana kirke. En
  lys junikveld inviterer vi til en vandring med hvilepuls. På den idyllis
 ke veien får du høre historier og selv være pilgrim.\n\nOppmøte kl 17:
 00 ved p-plassen på Nøttveit.\n\nAvsluttes rundt kl 20:30 i Fana kirke\n
 \nTa med: niste\, drikke\, sitteunderlag\, vanntette sko og klær etter v
 æret.\n\nPåmelding: Linda Bårdsen\, tlf. 48 30 24 48 / e-post\; lb878@
 kirken.no
CATEGORIES:Dagsvandring
LOCATION:Nøttveit\, Nøttveit\, Bergen\, Hordaland\, Norway
X-APPLE-STRUCTURED-LOCATION;VALUE=URI;X-ADDRESS=Nøttveit\, Bergen\, Hordal
 and\, Norway;X-APPLE-RADIUS=100;X-TITLE=Nøttveit:geo:0,0
END:VEVENT
BEGIN:VTIMEZONE
TZID:Europe/Oslo
X-LIC-LOCATION:Europe/Oslo
BEGIN:DAYLIGHT
DTSTART:20210328T030000
TZOFFSETFROM:+0100
TZOFFSETTO:+0200
TZNAME:CEST
END:DAYLIGHT
END:VTIMEZONE
END:VCALENDAR