BEGIN:VCALENDAR
VERSION:2.0
PRODID:-//wp-events-plugin.com//7.2.3.1//EN
BEGIN:VEVENT
UID:255@pilegrimsfellesskapet.no
DTSTART;TZID=Europe/Oslo:20250421T130000
DTEND;TZID=Europe/Oslo:20250421T180000
DTSTAMP:20250303T231520Z
URL:https://www.pilegrimsfellesskapet.no/arrangement/pilegrimsvandring-fra
 -sola-ruinkyrkje-til-stavanger/
SUMMARY:Pilegrimsvandring fra Sola Ruinkyrkje til Stavanger
DESCRIPTION:Jæren Pilegrimsutvalg inviterer til pilegrimsvandring 2. påsk
 edag\, fra Sola ruinkyrkje til Stavanger.
ATTACH;FMTTYPE=image/jpeg:https://www.pilegrimsfellesskapet.no/wp-content/
 uploads/2023/03/Sola-ruinekirke-inne-08.20-002_Wenche-Lindtner.jpg
CATEGORIES:Kystpilegrim
LOCATION:Sola ruinkyrkje\, Bautavegen 10\, Sola\, 4050\, Rogaland\, Norway
X-APPLE-STRUCTURED-LOCATION;VALUE=URI;X-ADDRESS=Bautavegen 10\, Sola\, 4050
 \, Rogaland\, Norway;X-APPLE-RADIUS=100;X-TITLE=Sola ruinkyrkje:geo:0,0
END:VEVENT
BEGIN:VTIMEZONE
TZID:Europe/Oslo
X-LIC-LOCATION:Europe/Oslo
BEGIN:DAYLIGHT
DTSTART:20250330T030000
TZOFFSETFROM:+0100
TZOFFSETTO:+0200
TZNAME:CEST
END:DAYLIGHT
END:VTIMEZONE
END:VCALENDAR