BEGIN:VCALENDAR
VERSION:2.0
PRODID:-//wp-events-plugin.com//7.2.3.1//EN
BEGIN:VEVENT
UID:266@pilegrimsfellesskapet.no
DTSTART;TZID=Europe/Oslo:20230722T000000
DTEND;TZID=Europe/Oslo:20230722T000000
DTSTAMP:20230425T200452Z
URL:https://www.pilegrimsfellesskapet.no/arrangement/pilegrimsvandring-fra
 -stamnan-til-rennebu-kirke-lordag-22-juli-2023/
SUMMARY:Pilegrimsvandring fra Stamnan til Rennebu kirke\, lørdag 22. juli 
 2023.
DESCRIPTION:&nbsp\;\n\nhttps://www.pilegrimsfellesskapet.no/pilegrimsvandri
 ng-fra-stamnan-til-rennebu-kirke-lordag-22-juli-2023/
ATTACH;FMTTYPE=image/jpeg:https://www.pilegrimsfellesskapet.no/wp-content/
 uploads/2023/04/BF35FBAA-22CD-4AC7-93DB-AC5390BF2A2C.jpeg
CATEGORIES:Dagsvandring
END:VEVENT
BEGIN:VTIMEZONE
TZID:Europe/Oslo
X-LIC-LOCATION:Europe/Oslo
BEGIN:DAYLIGHT
DTSTART:20230326T030000
TZOFFSETFROM:+0100
TZOFFSETTO:+0200
TZNAME:CEST
END:DAYLIGHT
END:VTIMEZONE
END:VCALENDAR