BEGIN:VCALENDAR
VERSION:2.0
PRODID:-//wp-events-plugin.com//7.2.3.1//EN
BEGIN:VEVENT
UID:180@pilegrimsfellesskapet.no
DTSTART;TZID=Europe/Oslo:20221029T110000
DTEND;TZID=Europe/Oslo:20221029T160000
DTSTAMP:20221021T105036Z
URL:https://www.pilegrimsfellesskapet.no/arrangement/pilegrimsvandring-fra
 -vestby-til-as/
SUMMARY:Pilegrimsvandring fra Vestby til Ås
DESCRIPTION:Pilegrimsfellesskapet Sta. Maria inviterer til pilegrimsvandrin
 g fra Vestby stasjon til Ås.\nDette er en del av Borgleden\, og planen er
  å nå Oslo engang i 2023.\nVandringen er ca 13 km på landevei og i grø
 nt områder. Vi regner med å være fremme i Ås ca. kl. 16.00\nDeler av v
 andringen er i stillhet – ellers anledning til samtaler - vi legger inn 
 pauser. Tur som passer for både nye og gamle pilegrimsvandrere.\nTa med d
 eg sekk med sitteunderlag og mat/drikke. Bruk klær/sko som passer til væ
 ret.\n\nMer informasjon på Facebook.
ATTACH;FMTTYPE=image/jpeg:https://www.pilegrimsfellesskapet.no/wp-content/
 uploads/2018/09/Logo.png
CATEGORIES:Dagsvandring
LOCATION:Vestby stasjon\, Kroerveien 2\, Vestby\, Viken\, Norway
X-APPLE-STRUCTURED-LOCATION;VALUE=URI;X-ADDRESS=Kroerveien 2\, Vestby\, Vik
 en\, Norway;X-APPLE-RADIUS=100;X-TITLE=Vestby stasjon:geo:0,0
END:VEVENT
BEGIN:VTIMEZONE
TZID:Europe/Oslo
X-LIC-LOCATION:Europe/Oslo
BEGIN:DAYLIGHT
DTSTART:20220327T030000
TZOFFSETFROM:+0100
TZOFFSETTO:+0200
TZNAME:CEST
END:DAYLIGHT
END:VTIMEZONE
END:VCALENDAR