BEGIN:VCALENDAR
VERSION:2.0
PRODID:-//wp-events-plugin.com//7.2.3.1//EN
BEGIN:VEVENT
UID:52@pilegrimsfellesskapet.no
DTSTART;TZID=Europe/Oslo:20210718T180000
DTEND;TZID=Europe/Oslo:20210727T180000
DTSTAMP:20210116T150702Z
URL:https://www.pilegrimsfellesskapet.no/arrangement/pilegrimsvandring-lan
 gs-romboleden/
SUMMARY:Pilegrimsvandring langs Romboleden
DESCRIPTION:[caption id="attachment_214" align="alignleft" width="300"] Gje
 nnom Skarddøra i Tydal[/caption]\n\nBli med på en 9 dagers pilegrimsvand
 ring langs Romboleden med bagasjetransport!\nLeden går fra høyfjell til 
 granskog\, fra svenskegrensa til Nidarosdomen i Trondheim. Du vandrer en s
 tund i stillhet hver dag\, noe som gir deg tid til å ta inn den flotte Tr
 øndelagsnaturen. Du blir mer og mer her og nå mens du nærmer deg målet
 . Som vandringsleder får du med deg Hilde Kirkvold har ledet denne vandri
 ngen 10 ganger.\n\nDe tre første dagene bor du på gården som Hilde og m
 annen Ingebrigt driver. Siden overnatter du i forsamlingshus\, skole og og
 så i en kirke på vei til det hellige målet Nidarosdomen og St. Olav.\n\
 nMaks 12 personer.\n\nLes mer her https://kirkvollen.no/sylan-nidaros-juli
 2021
CATEGORIES:Langvandring
LOCATION:Kirkvollen pilegrimsgård\, Kirkvollsvegen 39\, Tydal\, 7590\, Nor
 way
X-APPLE-STRUCTURED-LOCATION;VALUE=URI;X-ADDRESS=Kirkvollsvegen 39\, Tydal\,
  7590\, Norway;X-APPLE-RADIUS=100;X-TITLE=Kirkvollen pilegrimsgård:geo:0,
 0
END:VEVENT
BEGIN:VTIMEZONE
TZID:Europe/Oslo
X-LIC-LOCATION:Europe/Oslo
BEGIN:DAYLIGHT
DTSTART:20210328T030000
TZOFFSETFROM:+0100
TZOFFSETTO:+0200
TZNAME:CEST
END:DAYLIGHT
END:VTIMEZONE
END:VCALENDAR