BEGIN:VCALENDAR
VERSION:2.0
PRODID:-//wp-events-plugin.com//7.2.3.1//EN
BEGIN:VEVENT
UID:211@pilegrimsfellesskapet.no
DTSTART;TZID=Europe/Oslo:20230617T103000
DTEND;TZID=Europe/Oslo:20230617T170000
DTSTAMP:20230608T084213Z
URL:https://www.pilegrimsfellesskapet.no/arrangement/pilegrimsvandring-pa-
 orland/
SUMMARY:Pilegrimsvandring på Ørland
DESCRIPTION:Pilegrimsfellesskapet St. Olav - Nidaros inviterer til guidet p
 ilegrimsvandring langs Kystpilegrimsleia på Ørlandet med omvisning på A
 ustråttborgen og besøk til Rusasetvatnet.
ATTACH;FMTTYPE=image/jpeg:https://www.pilegrimsfellesskapet.no/wp-content/
 uploads/2023/06/Austratt.jpg
CATEGORIES:Dagsvandring,Pilegrimsfellesskapet St. Olav - Nidaros
LOCATION:Brekstad Fergeleie\, Brekstad\, Brekstad\, 7130\, Trøndelag\, Nor
 way
X-APPLE-STRUCTURED-LOCATION;VALUE=URI;X-ADDRESS=Brekstad\, Brekstad\, 7130\
 , Trøndelag\, Norway;X-APPLE-RADIUS=100;X-TITLE=Brekstad Fergeleie:geo:0,
 0
END:VEVENT
BEGIN:VTIMEZONE
TZID:Europe/Oslo
X-LIC-LOCATION:Europe/Oslo
BEGIN:DAYLIGHT
DTSTART:20230326T030000
TZOFFSETFROM:+0100
TZOFFSETTO:+0200
TZNAME:CEST
END:DAYLIGHT
END:VTIMEZONE
END:VCALENDAR