BEGIN:VCALENDAR
VERSION:2.0
PRODID:-//wp-events-plugin.com//7.2.3.1//EN
BEGIN:VEVENT
UID:167@pilegrimsfellesskapet.no
DTSTART;TZID=Europe/Oslo:20220713T000000
DTEND;TZID=Europe/Oslo:20220713T000000
DTSTAMP:20220623T192205Z
URL:https://www.pilegrimsfellesskapet.no/arrangement/pilegrimsvandring-pa-
 st-olavsleden-fra-verdal-til-stiklestad-og-tilbake/
SUMMARY:Pilegrimsvandring på St. Olavsleden fra Verdal til Stiklestad og t
 ilbake
DESCRIPTION:Pilegrimsfellesskapet St. Olav - Nidaros ønsker velkommen til 
 pilegrimsvandring på St. Olavsleden fra Verdal til Stiklestad og tilbake.
 \nTog fra Trondheim kl.10:17 til Verdal og tilbake etter turen.\nAage Gram
  leder denne vandringen.
CATEGORIES:Dagsvandring,Fellesturer
END:VEVENT
BEGIN:VTIMEZONE
TZID:Europe/Oslo
X-LIC-LOCATION:Europe/Oslo
BEGIN:DAYLIGHT
DTSTART:20220327T030000
TZOFFSETFROM:+0100
TZOFFSETTO:+0200
TZNAME:CEST
END:DAYLIGHT
END:VTIMEZONE
END:VCALENDAR