BEGIN:VCALENDAR
VERSION:2.0
PRODID:-//wp-events-plugin.com//7.2.3.1//EN
BEGIN:VEVENT
UID:295@pilegrimsfellesskapet.no
DTSTART;TZID=Europe/Oslo:20230907T180000
DTEND;TZID=Europe/Oslo:20230907T180000
DTSTAMP:20230904T093511Z
URL:https://www.pilegrimsfellesskapet.no/arrangement/pilegrimsvandringer-s
 ommeren-2023/
SUMMARY:Pilegrimsvandringer sommeren 2023
DESCRIPTION:Pilegrimsfellesskapet Santa Gjertrud inviterer til åpent møte
  med tema "Å være menneske er å være på vandring". To pilegrims-grupp
 er deler opplevelser\, bilder og erfaringer fra sine vandringer sommeren 2
 023.
ATTACH;FMTTYPE=image/jpeg:https://www.pilegrimsfellesskapet.no/wp-content/
 uploads/2023/09/Santa-Maria-ved-nullsteinen.jpg
CATEGORIES:Møter,Pilegrimsfellesskapet Sandefjord
LOCATION:Sandefjord bibliotek\, Sandefjordveien 3\, Sandefjord\, Vestfold o
 g Telemark\, Norway
X-APPLE-STRUCTURED-LOCATION;VALUE=URI;X-ADDRESS=Sandefjordveien 3\, Sandefj
 ord\, Vestfold og Telemark\, Norway;X-APPLE-RADIUS=100;X-TITLE=Sandefjord 
 bibliotek:geo:0,0
END:VEVENT
BEGIN:VTIMEZONE
TZID:Europe/Oslo
X-LIC-LOCATION:Europe/Oslo
BEGIN:DAYLIGHT
DTSTART:20230326T030000
TZOFFSETFROM:+0100
TZOFFSETTO:+0200
TZNAME:CEST
END:DAYLIGHT
END:VTIMEZONE
END:VCALENDAR