BEGIN:VCALENDAR
VERSION:2.0
PRODID:-//wp-events-plugin.com//7.2.3.1//EN
BEGIN:VEVENT
UID:145@pilegrimsfellesskapet.no
DTSTART;TZID=Europe/Oslo:20220503T000000
DTEND;TZID=Europe/Oslo:20220514T000000
DTSTAMP:20220318T121051Z
URL:https://www.pilegrimsfellesskapet.no/arrangement/pilgrims-open-horizon
 -oslo-larvik-hirtshals-roma/
SUMMARY:Pilgrims Open Horizon: Oslo - Larvik - Hirtshals (- Roma)
DESCRIPTION:Invitasjon til "Pilgrims Open Horizon" - en stafettvandring fra
  Oslo til Roma\, med start i Oslo 3. mai 2022.
ATTACH;FMTTYPE=image/jpeg:https://www.pilegrimsfellesskapet.no/wp-content/
 uploads/2019/03/vandring.jpg
CATEGORIES:Fellesturer,Langvandring
LOCATION:Oslo pilegrimssenter\, Akersbakken 30\, Oslo\, Oslo\, Norway
X-APPLE-STRUCTURED-LOCATION;VALUE=URI;X-ADDRESS=Akersbakken 30\, Oslo\, Osl
 o\, Norway;X-APPLE-RADIUS=100;X-TITLE=Oslo pilegrimssenter:geo:0,0
END:VEVENT
BEGIN:VTIMEZONE
TZID:Europe/Oslo
X-LIC-LOCATION:Europe/Oslo
BEGIN:DAYLIGHT
DTSTART:20220327T030000
TZOFFSETFROM:+0100
TZOFFSETTO:+0200
TZNAME:CEST
END:DAYLIGHT
END:VTIMEZONE
END:VCALENDAR