BEGIN:VCALENDAR
VERSION:2.0
PRODID:-//wp-events-plugin.com//7.2.3.1//EN
BEGIN:VEVENT
UID:81@pilegrimsfellesskapet.no
DTSTART;TZID=Europe/Oslo:20210529T000000
DTEND;TZID=Europe/Oslo:20210529T000000
DTSTAMP:20210527T155040Z
URL:https://www.pilegrimsfellesskapet.no/arrangement/rissa-tur-hasselvika-
 reins-kloster-2/
SUMMARY:UTSETTES! Rissa-tur: Hasselvika – Reins kloster
DESCRIPTION:\n\nOBS! Turen utsettes pga smittesituasjonen i Trøndelag.\n\n
 Vi skal testgå en nylig skiltet strekning av Kystpilegrimsleia!\n\nKystpi
 legrimsleias Venner Fosen med regionsleder Toralf fra Nidaros Pilegrimsgå
 rd har tidligere i mai vært ute for å skilte en god del av strekningen v
 i får sjansen å prøve.\n\n* Båt fra Trondheim til Hasselvika (atb: Tro
 ndheim hurtigbåtterminal kl. 9:40 – 10:50 Hasselvika hurtigbåtkai\n(ma
 n sørger for egen billett)\n* Vandring i rolig tempo fra Hasselvika til R
 issa\, med rastepause\nTa med drikke og matpakke!\n* Besøk med omvisning 
 i Rein kirke og på Reins kloster\n* Skyss tilbake til byen (maxitaxi/ferg
 e\, egenandel: kr 200)\n\nFor påmelding vennligst send mail til nidaros.p
 ilgrim@gmail.com\n\nSe arrangementet på facebook HER\n\n(Etappe 2: fra Re
 in til Statsbygd\, blir kunngjort senere)\n\n
ATTACH;FMTTYPE=image/jpeg:https://www.pilegrimsfellesskapet.no/wp-content/
 uploads/2021/05/Kopier-2021-05-11-11_47_36.png
CATEGORIES:Dagsvandring,Kystpilegrim,Vandring
END:VEVENT
BEGIN:VTIMEZONE
TZID:Europe/Oslo
X-LIC-LOCATION:Europe/Oslo
BEGIN:DAYLIGHT
DTSTART:20210328T030000
TZOFFSETFROM:+0100
TZOFFSETTO:+0200
TZNAME:CEST
END:DAYLIGHT
END:VTIMEZONE
END:VCALENDAR