BEGIN:VCALENDAR
VERSION:2.0
PRODID:-//wp-events-plugin.com//7.2.3.1//EN
BEGIN:VEVENT
UID:546@pilegrimsfellesskapet.no
DTSTART;TZID=Europe/Oslo:20251012T103000
DTEND;TZID=Europe/Oslo:20251012T160000
DTSTAMP:20251009T122910Z
URL:https://www.pilegrimsfellesskapet.no/arrangement/skogklang/
SUMMARY:PSH besøker: "Skogklang" i Østmarkkapellet\, med fellesvandring t
 il og fra
DESCRIPTION:.PSH tilbyr en pilegrimsvandring tur/retur Skullerudstua- Østm
 arkkapellet denne søndagen\, der programmet er todelt: Først sportsgudst
 jeneste og deretter konserten "Skogklang".."Skogklang" starter med profess
 or emeritus Sigmund Hågvars innledning om skogenes mentalhygieniske verdi
 er. Så framfører sopran Ingrid Vetlesen og pianist Marita Kjetland Rabbe
 n verker av Sparre Olsen\, Edvard Grieg\, Harald Sæverud\, Jean Sibelius 
 m.fl..Mer info om "Skogklang"-programmet ligger her: https://fb.me/e/7jfi
 BXjhY.REISEINFO1030 Vi møtes utenfor Skullerudstua (nærmeste T-stopp er 
 "Skullerud")1030-1130 Sakte vandring til Østmarkkapellet1200-1300 Sportsg
 udstjeneste/kafé1330 "Skogklang"1500-1600 (senest) Returvandring til Skul
 lerud T\n.\nHar du spørsmål like før turstart\, kan du ta kontakt med t
 urlederne i kommentarfeltet på Facebook-arrangementet..Vandringsleder er 
 Grethe Sprone..Vel møtt!\n\n.\nLENKER\n\nhttps://www.skullerudstua.no/\n\
 nhttp://ostmarkskapellet.no/om-ostmarkskapellet/\n\nhttps://www.ingridvetl
 esen.com/prosjekter/skogklang\n\n\n.
ATTACH;FMTTYPE=image/jpeg:https://www.pilegrimsfellesskapet.no/wp-content/
 uploads/2025/10/557644433_10163562293636473_4428968038285313970_n-e1760005
 228760.jpg
CATEGORIES:Dagsvandring,Pilegrimsfellesskapet St. Hallvard av
 Oslo,Vandring
END:VEVENT
BEGIN:VTIMEZONE
TZID:Europe/Oslo
X-LIC-LOCATION:Europe/Oslo
BEGIN:DAYLIGHT
DTSTART:20250330T030000
TZOFFSETFROM:+0100
TZOFFSETTO:+0200
TZNAME:CEST
END:DAYLIGHT
END:VTIMEZONE
END:VCALENDAR