BEGIN:VCALENDAR
VERSION:2.0
PRODID:-//wp-events-plugin.com//7.2.3.1//EN
BEGIN:VEVENT
UID:485@pilegrimsfellesskapet.no
DTSTART;TZID=Europe/Oslo:20250529T000000
DTEND;TZID=Europe/Oslo:20250601T000000
DTSTAMP:20250401T204434Z
URL:https://www.pilegrimsfellesskapet.no/arrangement/st-hallvardsvandring-
 2025/
SUMMARY:St. Hallvardsvandring 2025
DESCRIPTION:Bli med på årets St. Hallvardsvandring i Kristi Himmelfartshe
 lgen! Overskriften for årets vandringsdager er «FRED». St. Hallvardsvan
 dringen er et samarbeide mellom Pilegrimsforeningen St. Hallvard av Huseby
 \, Pilegrimsfelleskapet St. Hallvard av Oslo og Pilegrimssenter Oslo.
ATTACH;FMTTYPE=image/jpeg:https://www.pilegrimsfellesskapet.no/wp-content/
 uploads/2019/03/vandring.jpg
CATEGORIES:Fellesturer,Pilegrimsfellesskapet St. Hallvard av
 Oslo,Pilegrimsforeningen St. Hallvard av Huseby
END:VEVENT
BEGIN:VTIMEZONE
TZID:Europe/Oslo
X-LIC-LOCATION:Europe/Oslo
BEGIN:DAYLIGHT
DTSTART:20250330T030000
TZOFFSETFROM:+0100
TZOFFSETTO:+0200
TZNAME:CEST
END:DAYLIGHT
END:VTIMEZONE
END:VCALENDAR