BEGIN:VCALENDAR
VERSION:2.0
PRODID:-//wp-events-plugin.com//7.2.3.1//EN
BEGIN:VEVENT
UID:433@pilegrimsfellesskapet.no
DTSTART;TZID=Europe/Oslo:20241206T190000
DTEND;TZID=Europe/Oslo:20241206T210000
DTSTAMP:20241113T142437Z
URL:https://www.pilegrimsfellesskapet.no/arrangement/st-nikolas-kveld-i-bo
 din-kirke/
SUMMARY:St. Nikolas-kveld i Bodin kirke
DESCRIPTION:Pilegrimsfellesskapet St. Nikolas inviterer til samling på sel
 veste St. Nikolasdagen\, 6. desember.
ATTACH;FMTTYPE=image/jpeg:https://www.pilegrimsfellesskapet.no/wp-content/
 uploads/2021/01/Seiltur-pilegrimsfellesskapet-St.-Nikolas.jpg
CATEGORIES:Møter
LOCATION:Bodin kirke\, Gamle Riksvei 66\, Bodøsjøen\, 8070\, Nordland\, N
 orway
X-APPLE-STRUCTURED-LOCATION;VALUE=URI;X-ADDRESS=Gamle Riksvei 66\, Bodøsj
 øen\, 8070\, Nordland\, Norway;X-APPLE-RADIUS=100;X-TITLE=Bodin kirke:geo
 :0,0
END:VEVENT
BEGIN:VTIMEZONE
TZID:Europe/Oslo
X-LIC-LOCATION:Europe/Oslo
BEGIN:STANDARD
DTSTART:20241027T020000
TZOFFSETFROM:+0200
TZOFFSETTO:+0100
TZNAME:CET
END:STANDARD
END:VTIMEZONE
END:VCALENDAR