BEGIN:VCALENDAR
VERSION:2.0
PRODID:-//wp-events-plugin.com//7.2.3.1//EN
BEGIN:VEVENT
UID:213@pilegrimsfellesskapet.no
DTSTART;TZID=Europe/Oslo:20230930T000000
DTEND;TZID=Europe/Oslo:20230930T000000
DTSTAMP:20230830T085950Z
URL:https://www.pilegrimsfellesskapet.no/arrangement/st-olavsleden-fra-gev
 ingasen-til-hommelvik/
SUMMARY:St. Olavsleden fra Gevingåsen til Hommelvik
DESCRIPTION:Pilegrimsfellesskapet St. Olav - Nidaros inviterer til vandring
  på St Olavsleden\, fra Gevingåsen (Hell) på gamleveien til Hommelvik. 
 Vandringsleder er Aage Gram.
ATTACH;FMTTYPE=image/jpeg:https://www.pilegrimsfellesskapet.no/wp-content/
 uploads/2021/05/195942679_514370949703113_5311643142504767276_n.jpg
CATEGORIES:Dagsvandring,Pilegrimsfellesskapet St. Olav - Nidaros
END:VEVENT
BEGIN:VTIMEZONE
TZID:Europe/Oslo
X-LIC-LOCATION:Europe/Oslo
BEGIN:DAYLIGHT
DTSTART:20230326T030000
TZOFFSETFROM:+0100
TZOFFSETTO:+0200
TZNAME:CEST
END:DAYLIGHT
END:VTIMEZONE
END:VCALENDAR