BEGIN:VCALENDAR
VERSION:2.0
PRODID:-//wp-events-plugin.com//7.2.3.1//EN
BEGIN:VEVENT
UID:8@pilegrimsfellesskapet.no
DTSTART;TZID=Europe/Oslo:20200622T150000
DTEND;TZID=Europe/Oslo:20200622T170000
DTSTAMP:20200605T192322Z
URL:https://www.pilegrimsfellesskapet.no/arrangement/styremote-i-pso/
SUMMARY:Styremøte PSO
DESCRIPTION:Saker som ønskes tatt opp i styremøtet bes meldt inn i god ti
 d\, til post@pilegrimsfellesskapet.no.\n\n&nbsp\;
CATEGORIES:Møter
END:VEVENT
BEGIN:VTIMEZONE
TZID:Europe/Oslo
X-LIC-LOCATION:Europe/Oslo
BEGIN:DAYLIGHT
DTSTART:20200329T030000
TZOFFSETFROM:+0100
TZOFFSETTO:+0200
TZNAME:CEST
END:DAYLIGHT
END:VTIMEZONE
END:VCALENDAR