BEGIN:VCALENDAR
VERSION:2.0
PRODID:-//wp-events-plugin.com//7.2.3.1//EN
BEGIN:VEVENT
UID:300@pilegrimsfellesskapet.no
DTSTART;TZID=Europe/Oslo:20230909T000000
DTEND;TZID=Europe/Oslo:20230910T000000
DTSTAMP:20230906T074419Z
URL:https://www.pilegrimsfellesskapet.no/arrangement/sunnivadagar-2023/
SUMMARY:Sunnivadagar 2023
DESCRIPTION:Sta. Sunniva feires i Selje sentrum helga 9. og 10. september 2
 023.
ATTACH;FMTTYPE=image/jpeg:https://www.pilegrimsfellesskapet.no/wp-content/
 uploads/2023/09/Sunnivadagar-2023.-Selje-pilegrimssenter.jpg
END:VEVENT
BEGIN:VTIMEZONE
TZID:Europe/Oslo
X-LIC-LOCATION:Europe/Oslo
BEGIN:DAYLIGHT
DTSTART:20230326T030000
TZOFFSETFROM:+0100
TZOFFSETTO:+0200
TZNAME:CEST
END:DAYLIGHT
END:VTIMEZONE
END:VCALENDAR