BEGIN:VCALENDAR
VERSION:2.0
PRODID:-//wp-events-plugin.com//7.2.3.1//EN
BEGIN:VEVENT
UID:413@pilegrimsfellesskapet.no
DTSTART;TZID=Europe/Oslo:20241012T110000
DTEND;TZID=Europe/Oslo:20241012T160000
DTSTAMP:20241004T144924Z
URL:https://www.pilegrimsfellesskapet.no/arrangement/vandring-fra-bakke-ti
 l-idd-kirke/
SUMMARY:Vandring fra Bakke til Idd kirke
DESCRIPTION:Pilegrimsfellesskapet Sta. Maria - Sarpsborg inviterer til pile
 grimsvandring fra Bakke til Idd kirke.
ATTACH;FMTTYPE=image/jpeg:https://www.pilegrimsfellesskapet.no/wp-content/
 uploads/2023/06/Idd-kirke.jpg
CATEGORIES:Dagsvandring,Pilegrimsfellesskapet Sta. Maria, Sarpsborg
END:VEVENT
BEGIN:VTIMEZONE
TZID:Europe/Oslo
X-LIC-LOCATION:Europe/Oslo
BEGIN:DAYLIGHT
DTSTART:20240331T030000
TZOFFSETFROM:+0100
TZOFFSETTO:+0200
TZNAME:CEST
END:DAYLIGHT
END:VTIMEZONE
END:VCALENDAR