BEGIN:VCALENDAR
VERSION:2.0
PRODID:-//wp-events-plugin.com//7.2.3.1//EN
BEGIN:VEVENT
UID:500@pilegrimsfellesskapet.no
DTSTART;TZID=Europe/Oslo:20250531T120000
DTEND;TZID=Europe/Oslo:20250531T140000
DTSTAMP:20250422T221026Z
URL:https://www.pilegrimsfellesskapet.no/arrangement/vandring-fra-holmen-k
 irke-til-berger-gard/
SUMMARY:Vandring fra Holmen kirke til Berger gård
DESCRIPTION:Asker prosti inviterer til vandring fra Holmen kirke langs Fekj
 an og over Ravnsborg til Berger gård.
ATTACH;FMTTYPE=image/jpeg:https://www.pilegrimsfellesskapet.no/wp-content/
 uploads/2025/04/Holmen-kirke-i-Asker.jpg
CATEGORIES:Dagsvandring
LOCATION:Holmen kirke\, Nesbruveien 55A\, Billingstad\, 1396\, Akershus\, N
 orway
X-APPLE-STRUCTURED-LOCATION;VALUE=URI;X-ADDRESS=Nesbruveien 55A\, Billingst
 ad\, 1396\, Akershus\, Norway;X-APPLE-RADIUS=100;X-TITLE=Holmen kirke:geo:
 0,0
END:VEVENT
BEGIN:VTIMEZONE
TZID:Europe/Oslo
X-LIC-LOCATION:Europe/Oslo
BEGIN:DAYLIGHT
DTSTART:20250330T030000
TZOFFSETFROM:+0100
TZOFFSETTO:+0200
TZNAME:CEST
END:DAYLIGHT
END:VTIMEZONE
END:VCALENDAR