BEGIN:VCALENDAR
VERSION:2.0
PRODID:-//wp-events-plugin.com//7.2.3.1//EN
BEGIN:VEVENT
UID:471@pilegrimsfellesskapet.no
DTSTART;TZID=Europe/Oslo:20250729T160000
DTEND;TZID=Europe/Oslo:20250729T200000
DTSTAMP:20250304T231309Z
URL:https://www.pilegrimsfellesskapet.no/arrangement/vandring-fra-obrestad
 -havn-til-varhaug-gamle-kyrkjegard-2/
SUMMARY:Vandring frå Obrestad havn til Varhaug gamle kyrkjegard
DESCRIPTION:Utstein pilegrimsgard inviterer til vandring frå Obrestad havn
 \, 1000-års plassen til Varhaug gamle kyrkjegard.
ATTACH;FMTTYPE=image/jpeg:https://www.pilegrimsfellesskapet.no/wp-content/
 uploads/2021/12/jaeren-kysten.jpg
CATEGORIES:Dagsvandring,Kystpilegrim
END:VEVENT
BEGIN:VTIMEZONE
TZID:Europe/Oslo
X-LIC-LOCATION:Europe/Oslo
BEGIN:DAYLIGHT
DTSTART:20250330T030000
TZOFFSETFROM:+0100
TZOFFSETTO:+0200
TZNAME:CEST
END:DAYLIGHT
END:VTIMEZONE
END:VCALENDAR