BEGIN:VCALENDAR
VERSION:2.0
PRODID:-//wp-events-plugin.com//7.2.3.1//EN
BEGIN:VEVENT
UID:16@pilegrimsfellesskapet.no
DTSTART;TZID=Europe/Oslo:20200626T160000
DTEND;TZID=Europe/Oslo:20200626T180000
DTSTAMP:20200615T203032Z
URL:https://www.pilegrimsfellesskapet.no/arrangement/vandring-i-tingelstad
 -i-forbindelse-med-st-petri-800-ar/
SUMMARY:Vandring i Tingelstad i forbindelse med St. Petri 800 år
DESCRIPTION:RiHaTo inviterer til pilegrimsvandring fra Steinringen på Bild
 en til St. Petri Tingelstad gamle kirke i forbindelse med feiringen av kir
 kens 800 års jubileum. Turen tar ca. to timer rolig vandring med innlagte
  stopp underveis.\n\nTa med din egen nistepakke og kaffe/drikke\, når vi 
 kommer frem.\n\nAnbefalt avstand minst 1 meter.  Personer med symptomer p
 å luftveisinfeksjon bes holde seg hjemme. Iflg. smittevernreglene vil det
  være en antallbegrensning\, men vi regner ikke med at den vil slå inn. 
 Vi kan imidlertid ikke tilby felles skyss. Deltagerne vi bli registrert.\n
 \n16.00 Start ved Steinringen\, framme ved St. Petri ca. 18.00. Turen kan 
 gjøres kortere ved å slutte seg til ved Grinaker kirketuft eller ved Tin
 gelstad nye kirke. (etterfølgende program i St Petri\, konsert kl. 18.30
 (?) – begrenset antall\, se eget program)\n\nTuren er åpen for alle.\n\
 nTurledere: Kari Røken Alm (480 31 933) og Peder Gjerdrum (922 86 622)
ATTACH;FMTTYPE=image/jpeg:https://www.pilegrimsfellesskapet.no/wp-content/
 uploads/2020/06/St.-Petri-Gamle-Tingelstad-kirke.png
CATEGORIES:Dagsvandring,Fellesturer,Pilegrimsfellesskapet
 Ringerike-Hadeland-Toten (RIHATO),Vandring
LOCATION:Steinringen på Bilden\, Tingelstad\, Gran\, Norway
X-APPLE-STRUCTURED-LOCATION;VALUE=URI;X-ADDRESS=Tingelstad\, Gran\, Norway;
 X-APPLE-RADIUS=100;X-TITLE=Steinringen på Bilden:geo:0,0
END:VEVENT
BEGIN:VTIMEZONE
TZID:Europe/Oslo
X-LIC-LOCATION:Europe/Oslo
BEGIN:DAYLIGHT
DTSTART:20200329T030000
TZOFFSETFROM:+0100
TZOFFSETTO:+0200
TZNAME:CEST
END:DAYLIGHT
END:VTIMEZONE
END:VCALENDAR