BEGIN:VCALENDAR
VERSION:2.0
PRODID:-//wp-events-plugin.com//7.2.3.1//EN
BEGIN:VEVENT
UID:82@pilegrimsfellesskapet.no
DTSTART;TZID=Europe/Oslo:20210612T000000
DTEND;TZID=Europe/Oslo:20210612T000000
DTSTAMP:20210523T120601Z
URL:https://www.pilegrimsfellesskapet.no/arrangement/vandring-klefstadhaug
 en-nidaros-2/
SUMMARY:Vandring Klefstadhaugen - Nidaros
DESCRIPTION:Vandring Klefstadhaugen - Nidaros\nLørdag 12. juni Vandring Kl
 efstadhaugen - Nidaros\n(Buss nr 75 Spongdal fra Kongens gt. K1 kl. 10:08.
  til Klefstadhaugen)\n\nOBS! Ny tidspunkt: Buss 75 fra Kongens gt K1 går 
 kl. 10:26 til Klefstadhaugen.\n\nVandring fra Klefstadhaugen\, via Gamle B
 ynesvei over Klefstadmyra\, Tømmerdalstorget og Driftsveien ned til byen.
 \nTa med mat og drikke\, og kle deg etter været.\nTuren er ca. 14 km\, og
  går uansett vær.\nVandreledere: Aasne og Aage Gram\n\nSe arrangementet 
 på facebook HER
CATEGORIES:Dagsvandring,Vandring
END:VEVENT
BEGIN:VTIMEZONE
TZID:Europe/Oslo
X-LIC-LOCATION:Europe/Oslo
BEGIN:DAYLIGHT
DTSTART:20210328T030000
TZOFFSETFROM:+0100
TZOFFSETTO:+0200
TZNAME:CEST
END:DAYLIGHT
END:VTIMEZONE
END:VCALENDAR