BEGIN:VCALENDAR
VERSION:2.0
PRODID:-//wp-events-plugin.com//7.2.3.1//EN
BEGIN:VEVENT
UID:93@pilegrimsfellesskapet.no
DTSTART;TZID=Europe/Oslo:20210627T000000
DTEND;TZID=Europe/Oslo:20210630T000000
DTSTAMP:20210615T143829Z
URL:https://www.pilegrimsfellesskapet.no/arrangement/vandring-langs-gudbra
 ndsdalsleden-med-peer-gynt/
SUMMARY:Vandring langs Gudbrandsdalsleden med Peer Gynt
DESCRIPTION:Vandring på Pilegrimsleden gjennom Gudbrandsdalen fra Ringebu 
 til Vinstra\, Peer Gynt-spelet på Gålå og åpningsdagen av Hundorp 202
 1.
CATEGORIES:Fellesturer
LOCATION:Ringebu skysstasjon\, Gudbrandsdalsvegen 2026\, Ringebu\, 2630\, I
 nnlandet\, Norway
X-APPLE-STRUCTURED-LOCATION;VALUE=URI;X-ADDRESS=Gudbrandsdalsvegen 2026\, R
 ingebu\, 2630\, Innlandet\, Norway;X-APPLE-RADIUS=100;X-TITLE=Ringebu skys
 stasjon:geo:0,0
END:VEVENT
BEGIN:VTIMEZONE
TZID:Europe/Oslo
X-LIC-LOCATION:Europe/Oslo
BEGIN:DAYLIGHT
DTSTART:20210328T030000
TZOFFSETFROM:+0100
TZOFFSETTO:+0200
TZNAME:CEST
END:DAYLIGHT
END:VTIMEZONE
END:VCALENDAR