BEGIN:VCALENDAR
VERSION:2.0
PRODID:-//wp-events-plugin.com//7.2.3.1//EN
BEGIN:VEVENT
UID:165@pilegrimsfellesskapet.no
DTSTART;TZID=Europe/Oslo:20220626T093000
DTEND;TZID=Europe/Oslo:20220626T180000
DTSTAMP:20220609T175138Z
URL:https://www.pilegrimsfellesskapet.no/arrangement/vandring-langs-praest
 vegen-fra-veldre-kirke-til-ringsaker-kirke/
SUMMARY:Vandring langs Præstvegen fra Veldre kirke til Ringsaker kirke
DESCRIPTION:Velkommen til vandring langs Præstvegen - fra Veldre kirke til
  Ringsaker kirke.
CATEGORIES:Dagsvandring
LOCATION:Veldre kirke\, Flesakervegen 23\, Brumunddal\, 2380\, Innlandet\, 
 Norway
X-APPLE-STRUCTURED-LOCATION;VALUE=URI;X-ADDRESS=Flesakervegen 23\, Brumundd
 al\, 2380\, Innlandet\, Norway;X-APPLE-RADIUS=100;X-TITLE=Veldre kirke:geo
 :0,0
END:VEVENT
BEGIN:VTIMEZONE
TZID:Europe/Oslo
X-LIC-LOCATION:Europe/Oslo
BEGIN:DAYLIGHT
DTSTART:20220327T030000
TZOFFSETFROM:+0100
TZOFFSETTO:+0200
TZNAME:CEST
END:DAYLIGHT
END:VTIMEZONE
END:VCALENDAR