BEGIN:VCALENDAR
VERSION:2.0
PRODID:-//wp-events-plugin.com//7.2.3.1//EN
BEGIN:VEVENT
UID:442@pilegrimsfellesskapet.no
DTSTART;TZID=Europe/Oslo:20250729T000000
DTEND;TZID=Europe/Oslo:20250803T000000
DTSTAMP:20241119T193035Z
URL:https://www.pilegrimsfellesskapet.no/arrangement/vandring-med-olavsfla
 mmen-2025/
SUMMARY:Vandring med Olavsflammen 2025
DESCRIPTION:Opplev 1000 år med olavsarv! I år\, som tidligere år\, vandr
 er vi Olavsflammen fra Stiklestad 29. juli\, som er Olavs dødsdag\, til N
 idaros 3. august\, som er Olavs helgenkåringsdag.
ATTACH;FMTTYPE=image/jpeg:https://www.pilegrimsfellesskapet.no/wp-content/
 uploads/2021/06/olavsflammen.png
CATEGORIES:Langvandring
LOCATION:Stiklestad\, Stiklestad\, Verdal\, 7656\, Trøndelag\, Norway
X-APPLE-STRUCTURED-LOCATION;VALUE=URI;X-ADDRESS=Stiklestad\, Verdal\, 7656\
 , Trøndelag\, Norway;X-APPLE-RADIUS=100;X-TITLE=Stiklestad:geo:0,0
END:VEVENT
BEGIN:VTIMEZONE
TZID:Europe/Oslo
X-LIC-LOCATION:Europe/Oslo
BEGIN:DAYLIGHT
DTSTART:20250330T030000
TZOFFSETFROM:+0100
TZOFFSETTO:+0200
TZNAME:CEST
END:DAYLIGHT
END:VTIMEZONE
END:VCALENDAR