BEGIN:VCALENDAR
VERSION:2.0
PRODID:-//wp-events-plugin.com//7.2.3.1//EN
BEGIN:VEVENT
UID:506@pilegrimsfellesskapet.no
DTSTART;TZID=Europe/Oslo:20250625T000000
DTEND;TZID=Europe/Oslo:20250628T000000
DTSTAMP:20250513T215230Z
URL:https://www.pilegrimsfellesskapet.no/arrangement/vandring-med-quigong-
 og-mindfulness-fra-hamar-til-lillehammer/
SUMMARY:Vandring med quigong og mindfulness fra Hamar til Lillehammer
DESCRIPTION:Bli med på en stillferdig vandring på på østsiden av Mjøs
 a. Vi går sammen fra Domkirkeodden og middelalderbyen\, langs Mjøsa til 
 Ringsaker kommune. Der går vi Prestvægen og videre på stier og veier so
 m fører oss opp i høydedraget\, med en fantastisk utsikt utover Mjøsa o
 g omegn.\n\nKr. 4900\n\nMer info og påmelding
ATTACH;FMTTYPE=image/jpeg:https://www.pilegrimsfellesskapet.no/wp-content/
 uploads/2023/03/received_776363430772820-foto-Ragnfrid-Granerud.jpeg
CATEGORIES:Fellesturer,Langvandring
END:VEVENT
BEGIN:VTIMEZONE
TZID:Europe/Oslo
X-LIC-LOCATION:Europe/Oslo
BEGIN:DAYLIGHT
DTSTART:20250330T030000
TZOFFSETFROM:+0100
TZOFFSETTO:+0200
TZNAME:CEST
END:DAYLIGHT
END:VTIMEZONE
END:VCALENDAR