BEGIN:VCALENDAR
VERSION:2.0
PRODID:-//wp-events-plugin.com//7.2.3.1//EN
BEGIN:VEVENT
UID:556@pilegrimsfellesskapet.no
DTSTART;TZID=Europe/Oslo:20260426T000000
DTEND;TZID=Europe/Oslo:20260426T000000
DTSTAMP:20251123T104751Z
URL:https://www.pilegrimsfellesskapet.no/arrangement/vandring-mot-nasjonal
 e-sar/
SUMMARY:Vandring mot "Nasjonale sår"
DESCRIPTION:Areopagos\, Samarbeidsrådet for tros- og livssynssamfunn\, Nor
 ges Kristne Råd og Den norske kirke samarbeider om pilegrimsprosjektet «
 Nasjonale sår». De arrangerer årlige årlige pilegrimsvandringer til/p
 å steder rammet av terrorhandlinger i Norge – i nært samarbeid med de 
 som ble rammet av terroren. I 2026 går turen til Al Noor-moskeen i Bæru
 m\, som ble utsatt for terrorangrep i 2019.
ATTACH;FMTTYPE=image/jpeg:https://www.pilegrimsfellesskapet.no/wp-content/
 uploads/2017/04/Skitne-sko.jpg
CATEGORIES:Dagsvandring
END:VEVENT
BEGIN:VTIMEZONE
TZID:Europe/Oslo
X-LIC-LOCATION:Europe/Oslo
BEGIN:DAYLIGHT
DTSTART:20260329T030000
TZOFFSETFROM:+0100
TZOFFSETTO:+0200
TZNAME:CEST
END:DAYLIGHT
END:VTIMEZONE
END:VCALENDAR