BEGIN:VCALENDAR
VERSION:2.0
PRODID:-//wp-events-plugin.com//7.2.3.1//EN
BEGIN:VEVENT
UID:110@pilegrimsfellesskapet.no
DTSTART;TZID=Europe/Oslo:20211003T170000
DTEND;TZID=Europe/Oslo:20211003T180000
DTSTAMP:20210928T105913Z
URL:https://www.pilegrimsfellesskapet.no/arrangement/vandring-til-bonsnes-
 kirke-til-skomakerstua/
SUMMARY:Vandring til Bønsnes kirke til Skomakerstua
DESCRIPTION:Pilegrimsfellesskapet Ringerike – Hadeland – Toten (RiHaTo)
  inviterer til vandring i Hole.
ATTACH;FMTTYPE=image/jpeg:https://www.pilegrimsfellesskapet.no/wp-content/
 uploads/2021/06/Skomakerstua-i-Froshaugasen-e1623398062903.jpg
CATEGORIES:Dagsvandring,Pilegrimsfellesskapet Ringerike-Hadeland-Toten
 (RIHATO)
LOCATION:Bønsnes kirke\, Bønsnesveien 409\, Røyse\, 3530\, Viken\, Norwa
 y
X-APPLE-STRUCTURED-LOCATION;VALUE=URI;X-ADDRESS=Bønsnesveien 409\, Røyse\
 , 3530\, Viken\, Norway;X-APPLE-RADIUS=100;X-TITLE=Bønsnes kirke:geo:0,0
END:VEVENT
BEGIN:VTIMEZONE
TZID:Europe/Oslo
X-LIC-LOCATION:Europe/Oslo
BEGIN:DAYLIGHT
DTSTART:20210328T030000
TZOFFSETFROM:+0100
TZOFFSETTO:+0200
TZNAME:CEST
END:DAYLIGHT
END:VTIMEZONE
END:VCALENDAR