BEGIN:VCALENDAR
VERSION:2.0
PRODID:-//wp-events-plugin.com//7.2.3.1//EN
BEGIN:VEVENT
UID:23@pilegrimsfellesskapet.no
DTSTART;TZID=Europe/Oslo:20200926T120000
DTEND;TZID=Europe/Oslo:20200927T120000
DTSTAMP:20200820T164055Z
URL:https://www.pilegrimsfellesskapet.no/arrangement/vandringshelg-pa-rena
 /
SUMMARY:Vandringshelg på Rena
DESCRIPTION:Vi gleder oss til vandringshelg sammen med lederen i PSO på Re
 na!\n\nVær raskt ute med påmelding\, med hensyn til å holde av hytter.\
 n\nBegrenset antall plasser – max 20\n\nProgram lørdag:\n\n12.00: Lunsj
  på Nesvangen\, Åmots tusenårssted.\n\n13.00: Vandring Pilegrimskleven\
 , ca 3 km.\n\n15.00: Vandring langs Østerdalsleden til Grenje kulturminne
 område.\nNistemat på veien. Ca 10 km.\n\n19.00: Kveldssamling i Åmot ki
 rke\; tømmerkatedralen.\n\n20.00: Middag på Milano\, restaurant i Rena s
 entrum.\n\n&nbsp\;\n\n&nbsp\;\n\nProgram søndag:\n\n8.00: Frokost på Ren
 a Camping\n\n9.00: Vandring rundt Rena sentrum\;\n\nmiddelalderkirkegård 
 og Rena kartong. Ca 3 km.\n\n12.00: Lunsj\n\n&nbsp\;\n\nPraktisk informasj
 on:\n\nPSO har satt av rom for overnatting  på  Rena camping i hytter:\
 n\n2-3 personer: kr 450 pr natt.\n\n4 personer: kr 500 pr natt.\n\n6-7 per
 soner: kr 600 pr natt.\n\nDet er mulig å leie sengetøy til kr 95\, og be
 tale for vask\, kr 350\,-.\n\nEt annet alternativ er selv å bestille hote
 llrom på Trudvang Apartment hotell ved å ringe 948 05 555.\n\nMåltider:
          Alle måltider kommer som ferdigpakket matpakke (brød\, b
 aguett\, frukt o.l) eller på restaurant i Rena sentrum.\n\nTog:     
             Sørfra: toget er på Rena kl 11 lørdag\, og går 
 kl 15 søndag.\n\nNordfra: tog til Rena fredag kveld\, eller nattog til Ha
 mar og tog til Rena lørdag formiddag. Tog til Trondheim kl 11 søndag.\n\
 nBetaling:         Kr 200\,- for medlemmer og 300\,- for øvrige\,
  betales til PSOs konto 0539.61.39369  før ankomst\, og dekker alle mål
 tider unntatt middag lørdag kveld.\n\nOvernatting og middag betales av de
 n enkelte direkte til campingplass/restaurant.\n\n&nbsp\;\n\n\n\nDette kan
  du oppleve\n\nAlle vandringer\, aktiviteter\, overnatting og måltider fi
 nner vi i gangavstand fra Rena sentrum og togstasjon.\n\n«Pilegrimskleven
 » er en merket sti med røtter helt fra middelalderen. På gamle kart fra
  1700-tallet står stien merket med dette navnet. Stien er i dag ikke del 
 av den godkjente leden\, men vil b\n\nli det ved en utvidelse av leden sø
 rover mot Elverum og Glomdalsleden.\n\nØsterdalsleden har ett av to start
 steder på Rena\, nærmere bestemt Nesvangen. Dette er et naturskjønt omr
 åde akkurat der hvor elvene Rena og Glomma møtes. Leden går opp mot Ren
 dalen\, på vestsiden av Renaelva. Noen kilometer oppover langs leden komm
 er vi til Grenje kulturminneområde. Her kan vi se spor fra vikingtid og s
 teinalder\; boplasser\, kullgroper\, tjæreutvinning\, og torvbrenselprodu
 ksjon fra tidlig 1900-tall. Her er det vakre skogsområder og et rikt biol
 ogisk mangfold. Vi får med kjentmann med stor lokalhistorisk kunnskap.\n\
 nTømmerkatedralen (Åmot kirke) sto ferdig i 1902. Den er i likhet med de
  fleste kirker i området ei lafta tømmerkirke. Men den skiller seg ut ve
 d at den ikke har kledning utenpå tømmeret\, verken på utsiden eller in
 nsiden. Den er høyreist og luftig med innvendige søyler av hele tømmers
 tokker\, og har 600 sitteplasser.\n\nRena Kartong var en hjørnesteinsbedr
 ift fra 1913 og fram til slutten av 1990-tallet. Nedleggelsen fikk stor op
 pmerksomhet i media. Nå er området boligområde og friluftsområde.\n\nM
 iddelalderkirkegård: Ved den gamle prestegården\, hvor det tidligere sto
  ei kirke\, finnes spor etter en middelalderkirkegård.\n\nPåmelding\ninn
 en 1.september i bestillingsskjema under eller til\nIngrun Jule\, telefon 
 40 49 01 08 eller e-post: post@pilegrimsfellesskapet.no\nVær raskt ute me
 d påmelding\, men hensyn til å holde av hytter. Begrenset antall plasser
  – max 20.\n\nInvitasjon vandringshelg på Rena 2020 som PDF\n\n&nbsp\;
CATEGORIES:Fellesturer,Østerdalsleden,Vandring
LOCATION:Nesvangen\, Kildealeen 6\, Rena\, 2450\, Norway
X-APPLE-STRUCTURED-LOCATION;VALUE=URI;X-ADDRESS=Kildealeen 6\, Rena\, 2450\
 , Norway;X-APPLE-RADIUS=100;X-TITLE=Nesvangen:geo:0,0
END:VEVENT
BEGIN:VTIMEZONE
TZID:Europe/Oslo
X-LIC-LOCATION:Europe/Oslo
BEGIN:DAYLIGHT
DTSTART:20200329T030000
TZOFFSETFROM:+0100
TZOFFSETTO:+0200
TZNAME:CEST
END:DAYLIGHT
END:VTIMEZONE
END:VCALENDAR