BEGIN:VCALENDAR
VERSION:2.0
PRODID:-//wp-events-plugin.com//7.2.3.1//EN
BEGIN:VEVENT
UID:15@pilegrimsfellesskapet.no
DTSTART;TZID=Europe/Oslo:20200624T140000
DTEND;TZID=Europe/Oslo:20200624T180000
DTSTAMP:20200618T111116Z
URL:https://www.pilegrimsfellesskapet.no/arrangement/vennskapsvandring-fra
 -gran-til-hurdal/
SUMMARY:Vennskapsvandring fra Gran til Hurdal
DESCRIPTION:Pilegrimsfellesskapet Ringerike - Hadeland -Toten inviterer til
  3 timers vandring fra Gran østås til Hurdal med liturgisk avslutning i 
 det russisk-ortodokse klosteret sin kirke sammen med munkene der. Vandring
 en begynner ved Tommelsjøen og går gjennom Grans og Hurdals skoglier ned
  til Skrukkelia kapell og videre til klosteret i Skabland. Skrukkelia hør
 te tidligere inn under Gran sogn. Sogneprest Daniel i Gran/ Tingelstad er 
 oppvokst i Hurdal. Både sognepresten og Skrukkelikapellet har altså et b
 ein i hver kommune. Daniel vil underveis fortelle om Hurdal og om den russ
 isk-ortodokse kirken/klosteret.\n\nOppmøtet er på parkeringsplassen ved 
 Lidskjalv ved Gran sentrum klokken 14.00. Samkjøring i biler ca. ½ time\
 , bompenger Gran Almenning. Selve vandringen med stopp tar tre timer på s
 kogstier. Etter at vi er ferdige\, vil en maxitaxi ta oss tilbake til Lids
 kjalv.\n\nTuren er åpen for alle. Vanlige smittevernregler gjelder. Ta me
 d egen mat og drikke.\n\nForhåndspåmelding er ønsket\; hvis det blir n
 ødvendig å begrense antallet\, vil de påmeldte ha førsterett.\n\nPåme
 lding og nærmere info ved Daniel Håkegård\, tlf 482 02 439\, epost dani
 el.hakegard@gmail.com
ATTACH;FMTTYPE=image/jpeg:https://www.pilegrimsfellesskapet.no/wp-content/
 uploads/2020/06/Kloster-i-Hurdal.jpg
CATEGORIES:Dagsvandring,Fellesturer,Pilegrimsfellesskapet
 Ringerike-Hadeland-Toten (RIHATO)
LOCATION:Gran\, Lidskalv\, Gran\, Norway
X-APPLE-STRUCTURED-LOCATION;VALUE=URI;X-ADDRESS=Lidskalv\, Gran\, Norway;X-
 APPLE-RADIUS=100;X-TITLE=Gran:geo:0,0
END:VEVENT
BEGIN:VTIMEZONE
TZID:Europe/Oslo
X-LIC-LOCATION:Europe/Oslo
BEGIN:DAYLIGHT
DTSTART:20200329T030000
TZOFFSETFROM:+0100
TZOFFSETTO:+0200
TZNAME:CEST
END:DAYLIGHT
END:VTIMEZONE
END:VCALENDAR