BEGIN:VCALENDAR
VERSION:2.0
PRODID:-//wp-events-plugin.com//7.2.3.1//EN
BEGIN:VEVENT
UID:125@pilegrimsfellesskapet.no
DTSTART;TZID=Europe/Oslo:20211230T113000
DTEND;TZID=Europe/Oslo:20211230T163000
DTSTAMP:20211211T171440Z
URL:https://www.pilegrimsfellesskapet.no/arrangement/vi-vandrer-inn-i-det-
 nye-aret-fra-berg-kirke/
SUMMARY:Vi vandrer inn i det nye året - fra Berg kirke
DESCRIPTION:Pilegrimsfellesskapet Sta. Maria inviterer til nyttårsvandring
  fra Berg middelalderkirke.
ATTACH;FMTTYPE=image/jpeg:https://www.pilegrimsfellesskapet.no/wp-content/
 uploads/2018/04/Utsikt-mot-Berg-kirke.jpg
CATEGORIES:Dagsvandring
LOCATION:Klatring på grensen\, Nygårdsgata 174\, Berg\, 1789\, Viken\, No
 rway
X-APPLE-STRUCTURED-LOCATION;VALUE=URI;X-ADDRESS=Nygårdsgata 174\, Berg\, 1
 789\, Viken\, Norway;X-APPLE-RADIUS=100;X-TITLE=Klatring på grensen:geo:0
 ,0
END:VEVENT
BEGIN:VTIMEZONE
TZID:Europe/Oslo
X-LIC-LOCATION:Europe/Oslo
BEGIN:STANDARD
DTSTART:20211031T020000
TZOFFSETFROM:+0200
TZOFFSETTO:+0100
TZNAME:CET
END:STANDARD
END:VTIMEZONE
END:VCALENDAR