BEGIN:VCALENDAR
VERSION:2.0
PRODID:-//wp-events-plugin.com//7.2.3.1//EN
BEGIN:VEVENT
UID:299@pilegrimsfellesskapet.no
DTSTART;TZID=Europe/Oslo:20230928T090000
DTEND;TZID=Europe/Oslo:20230928T100000
DTSTAMP:20230904T125813Z
URL:https://www.pilegrimsfellesskapet.no/arrangement/webinar-hvem-er-pileg
 rim-i-dag-hvorfor-og-hvordan/
SUMMARY:Webinar: Hvem er pilegrim i dag\; hvorfor og hvordan?
DESCRIPTION:Kirkerådet inviterer til webinar med tema "Hvem er pilegrim i 
 dag\; hvorfor og hvordan?".
ATTACH;FMTTYPE=image/jpeg:https://www.pilegrimsfellesskapet.no/wp-content/
 uploads/2017/04/Sommer-i-Norge.jpg
CATEGORIES:Møter
END:VEVENT
BEGIN:VTIMEZONE
TZID:Europe/Oslo
X-LIC-LOCATION:Europe/Oslo
BEGIN:DAYLIGHT
DTSTART:20230326T030000
TZOFFSETFROM:+0100
TZOFFSETTO:+0200
TZNAME:CEST
END:DAYLIGHT
END:VTIMEZONE
END:VCALENDAR